Workbook

Sheet PANDUAN
A1: PANDUAN PENGGUNAAN TEMPLAT
A2: PENTAKSIRAN BILIK DARJAH (PBD)
A4: PENGENALAN
A5: Pentaksiran Bilik Darjah (PBD) adalah sebahagian daripada komponen didalam Pentaksiran Berasaskan Sekolah (PBS). Pelaksanaannya telah bermula sejak tahun 2011 berdasarkan Surat Siaran Lembaga Peperiksaan Bil. 3 Tahun 2011. PBD sebelum ini dikenali sebagai PS (Pentaksiran Sekolah) di mana ia dilaksanakan secara formatif dan sumatif dengan pelbagai pendekatan dan kaedah bagi mengenalpasti perkembangan pembelajaran murid secara keseluruhan.
A11: A | B11: MAKLUMAT AM
B12: Templat Pelaporan PBD ini mengandungi 5 halaman (sheet) :
B13: 1. PANDUAN
B14: 2. REKOD PRESTASI MURID
B15: 3. LAPORAN MURID (INDIVIDU)
B16: 4. DATA PERNYATAAN TAHAP PENGUASAAN
B17: 5. GRAF PELAPORAN
A19: B | B19: PENGGUNAAN TEMPLAT
B20: Guru hendaklah melengkapkan maklumat asas pada templat ini di halaman REKOD PRESTASI MURID.
B21: Maklumat yang perlu dilengkapkan adalah:
B22: 1. Nama dan Alamat Sekolah
B23: 2. Nama Guru dan Nama Kelas
B24: 3. Senarai Nama Murid, Nombor Kad Pengenalan dan Jantina
B25: 4. Nama Pentadbir
B26: 5. Jawatan Pentadbir (Guru Besar/ Pengetua)
A28: C | B28: TAHAP PENGUASAAN
B29: Tahap Penguasaan murid bagi setiap komponen di dalam templat ini direkodkan untuk tujuan pelaporan perkembangan pembelajaran murid bagi sesuatu tempoh tertentu (Pertengahan / Akhir Tahun). Guru hanya perlu merekodkan Tahap Penguasaan ini di halaman REKOD PRESTASI MURID sahaja dan seterusnya pelaporan individu murid akan dijana secara automatik di halaman LAPORAN MURID (INDIVIDU) untuk cetakan. Tahap Penguasaan (TP) bagi tujuan analisis kelas dijana secara automatik di halaman GRAF PELAPORAN.
A36: D | B36: PENENTUAN TAHAP PENGUASAAN
A37: 1 | B37: Pentaksiran perlu dilakukan sepanjang masa dan tahap penguasaan murid dipantau secara berterusan. Tahap penguasaan ini boleh dicatat di dalam buku rekod, atau lain-lain tempat catatan; tetapi untuk tujuan pelaporan kepada ibu bapa, ia boleh direkod di dalam templat yang dibekalkan ini dan dilaporkan dua kali setahun iaitu pada pertengahan tahun dan akhir tahun.
A41: 2 | B41: Templat pelaporan ini terdiri daripada TUJUH (7) lajur yang dibina berdasarkan kompetensi yang perlu dikuasai oleh murid semasa di Tingkatan 5
A43: 3 | B43: Guru hendaklah memilih option Pelaporan Pertengahan Tahun atau Akhir Tahun di sebelah kanan bahagian atas halaman Rekod Prestasi Murid untuk membuat pelaporan di dalam templat ini.
A45: 4 | B45: Pelaporan bagi kompetensi 3.1 hingga 3.2 akan dilakukan pada pertengahan tahun, manakala pelaporan bagi kompetensi 4.1 hingga 4.5 pula dilakukan pada akhir tahun.
A47: 5 | B47: Tahap Penguasaan diberikan berdasarkan setiap rubrik mengikut kompetensi tersebut seperti di halaman Data Pernyataan Tahap Penguasaan.
A49: 6 | B49: Pencapaian murid secara keseluruhan dapat dilihat melalui graf pada Graf Pelaporan
A50: 7 | B50: Tahap Penguasaan Keseluruhan murid akan ditentukan oleh guru pada akhir tahun berdasarkan professional judgement guru.

Sheet REKOD PRESTASI MURID
C1: SEKOLAH : | D1: SMK TAMAN ANTARABANGSA
C2: ALAMAT : | D2: BUKIT ANTARABANGSA
C3: : | D3: KUALA LUMPUR
C4: TARIKH PELAPORAN : | D4: 43010
J5: Sila tentukan peringkat pentaksiran
A6: MATA PELAJARAN | C6: NAMA GURU MATA PELAJARAN: | D6: EN. AHMAD HASHIM MOKTAR | J6: Pentaksiran Pertengahan Tahun
A7: PERTANIAN | C7: KELAS: | D7: 5 AGRO | J7: Pentaksiran Akhir tahun
A9: BIL. | B9: NAMA MURID | C9: NO. MY KID / NO. KAD PENGENALAN | D9: JANTINA | E9: MODUL 3 | G9: MODUL 4 | AD9: TAHAP PENGUASAAN KESELURUHAN
E11: 3.1 | F11: 3.2 | G11: 4.1 | H11: 4.2 | I11: 4.3 | J11: 4.4 | K11: 4.5
A12: 1 | B12: AHMAD ADLI BIN ALI | C12: 40307162521 | D12: L | E12: 5 | F12: 4 | G12: 5 | H12: 4 | I12: 4 | J12: 4 | K12: 2 | AD12: 6 | AF12: 0 | AG12: P | AI12: 2
A13: 2 | B13: AHMAD ISWAZIR BIN KAMARUDDIN ALI | C13: 40206162355 | D13: L | E13: 5 | F13: 5 | G13: 3 | H13: 4 | I13: 4 | J13: 4 | K13: 2 | AD13: 4 | AF13: 1 | AG13: L
A14: 3 | B14: ARINA ARISSA BINTI MUSA | C14: 41209022384 | D14: P | E14: 6 | F14: 4 | G14: 5 | H14: 4 | I14: 4 | J14: 4 | K14: 2 | AD14: 5 | AF14: 2 | AG14: P
A15: 4 | B15: AZALI BIN MOHD GHAZI | C15: 40709072361 | D15: L | E15: 6 | F15: 4 | G15: 5 | H15: 4 | I15: 4 | J15: 4 | K15: 2 | AD15: 5 | AF15: 3 | AG15: L
A16: 5 | B16: AZWAN BIN MUSAHAR | C16: 41207162357 | D16: L | E16: 6 | F16: 3 | G16: 5 | H16: 4 | I16: 4 | J16: 4 | K16: 2 | AD16: 5 | AF16: 4 | AG16: P
A17: 6 | B17: CHAN KOK MENG | C17: 41209166359 | D17: L | E17: 6 | F17: 6 | G17: 6 | H17: 4 | I17: 4 | J17: 4 | K17: 2 | AD17: 6 | AF17: 5 | AG17: L
A18: 7 | B18: CHONG WEY LOON | C18: 41208018957 | D18: L | E18: 6 | F18: 4 | G18: 4 | H18: 4 | I18: 4 | J18: 4 | K18: 2 | AD18: 5 | AF18: 6 | AG18: P
A19: 8 | B19: DANIAL IRISH BIN DANIAL RUDIN | C19: 41203018933 | D19: L | E19: 5 | F19: 5 | G19: 3 | H19: 4 | I19: 4 | J19: 4 | K19: 2 | AD19: 4 | AF19: 7 | AG19: L
A20: 9 | B20: FARIDAH BINTI RAMLAN | C20: 41208162564 | D20: P | E20: 6 | F20: 4 | G20: 5 | H20: 4 | I20: 4 | J20: 4 | K20: 2 | AD20: 5 | AF20: 8 | AG20: P
A21: 10 | B21: HAFIZ BIN BAHAROM | C21: 41209169898 | D21: P | E21: 6 | F21: 4 | G21: 5 | H21: 4 | I21: 4 | J21: 4 | K21: 2 | AD21: 5 | AF21: 9 | AG21: L
A22: 11 | B22: HALIM BIN HARUN | C22: 41216167867 | D22: L | E22: 6 | F22: 3 | G22: 5 | H22: 4 | I22: 4 | J22: 4 | K22: 2 | AD22: 5
A23: 12 | B23: HARLENI BINTI ARIF | C23: 41219169638 | D23: P | E23: 6 | F23: 6 | G23: 6 | H23: 4 | I23: 4 | J23: 4 | K23: 2 | AD23: 6
A24: 13 | B24: HARLINA BINTI SARIP | C24: 41229162398 | D24: P | E24: 6 | F24: 4 | G24: 4 | H24: 4 | I24: 4 | J24: 4 | K24: 2 | AD24: 5
A25: 14 | B25: HAYATI BINTI MUSA | C25: 41203168754 | D25: P | E25: 5 | F25: 5 | G25: 3 | H25: 4 | I25: 4 | J25: 4 | K25: 2 | AD25: 4
A26: 15 | B26: IRWAN HASHIM BIN MOHD SUHAILY | C26: 41206162335 | D26: L | E26: 6 | F26: 4 | G26: 5 | H26: 4 | I26: 4 | J26: 4 | K26: 2 | AD26: 5
A27: 16 | B27: ISMAIL ALIFF BIN AZIZ | C27: 41209166267 | D27: L | E27: 6 | F27: 4 | G27: 5 | H27: 4 | I27: 4 | J27: 4 | K27: 2 | AD27: 5
A28: 17 | B28: JAMIL BIN JAMALUDIN | C28: 41211166993 | D28: L | E28: 6 | F28: 3 | G28: 5 | H28: 4 | I28: 4 | J28: 4 | K28: 2 | AD28: 5
A29: 18 | B29: KAMARIAH BINTI YASSIN | C29: 41236161248 | D29: P | E29: 6 | F29: 6 | G29: 6 | H29: 4 | I29: 4 | J29: 4 | K29: 2 | AD29: 6
A30: 19 | B30: KARIM DANISH BIN ABU BAKAR | C30: 41223161353 | D30: L | E30: 6 | F30: 4 | G30: 4 | H30: 4 | I30: 4 | J30: 4 | K30: 2 | AD30: 5
A31: 20 | B31: KHARIL YUSRI BIN TAHUR | C31: 41225169897 | D31: L | E31: 5 | F31: 5 | G31: 3 | H31: 4 | I31: 4 | J31: 4 | K31: 2 | AD31: 4
A32: 21 | B32: LAILATUL QARI BINTI KARIM | C32: 41216163696 | D32: P | E32: 6 | F32: 4 | G32: 5 | H32: 4 | I32: 4 | J32: 4 | K32: 2 | AD32: 5
A33: 22 | B33: LIZA BINTI OTHMAN | C33: 41227163424 | D33: P | E33: 6 | F33: 4 | G33: 5 | H33: 4 | I33: 4 | J33: 4 | K33: 2 | AD33: 5
... A41: 30 | B41: NUR QURSIAH BINTI HARIS | C41: 41213125024 | D41: P | E41: 6 | F41: 6 | G41: 6 | H41: 4 | I41: 4 | J41: 4 | K41: 2 | AD41: 6
A42: 31
A43: 32
A44: 33
A45: 34
A46: 35
A47: 36
A48: 37
A49: 38
...

Sheet LAPORAN MURID (INDIVIDU)
B1: ='REKOD PRESTASI MURID'!$D$1 -> SMK TAMAN ANTARABANGSA
B2: ='REKOD PRESTASI MURID'!$D$2 -> BUKIT ANTARABANGSA
B3: ='REKOD PRESTASI MURID'!$D$3 -> KUALA LUMPUR
B4: ='REKOD PRESTASI MURID'!$D$4 -> 43010 | H4: NOTA : JANGAN PADAM DATA INI!
B6: ='REKOD PRESTASI MURID'!$A$7 -> PERTANIAN | I6: 1
H7: 1 | I7: ='REKOD PRESTASI MURID'!B12 -> AHMAD ADLI BIN ALI | J7: =IF(I7=0,"",H7&" "&I7) -> 1 AHMAD ADLI BIN ALI | K7: ='REKOD PRESTASI MURID'!AI12 -> 2
B8: Nama Murid | D8: =VLOOKUP($I$6,H7:J69,2) -> AHMAD ADLI BIN ALI | H8: 2 | I8: ='REKOD PRESTASI MURID'!B13 -> AHMAD ISWAZIR BIN KAMARUDDIN ALI | J8: =IF(I8=0,"",H8&" "&I8) -> 2 AHMAD ISWAZIR BIN KAMARUDDIN ALI | K8: ='REKOD PRESTASI MURID'!J6 -> Pentaksiran Pertengahan Tahun
B9: No. MY KID | D9: =VLOOKUP($I$6,'REKOD PRESTASI MURID'!$A$12:$D$65,3) -> 40307162521 | H9: 3 | I9: ='REKOD PRESTASI MURID'!B14 -> ARINA ARISSA BINTI MUSA | J9: =IF(I9=0,"",H9&" "&I9) -> 3 ARINA ARISSA BINTI MUSA | K9: ='REKOD PRESTASI MURID'!J7 -> Pentaksiran Akhir tahun
B10: Jantina | D10: =VLOOKUP($I$6,'REKOD PRESTASI MURID'!$A$12:$D$65,4) -> L | H10: 4 | I10: ='REKOD PRESTASI MURID'!B15 -> AZALI BIN MOHD GHAZI | J10: =IF(I10=0,"",H10&" "&I10) -> 4 AZALI BIN MOHD GHAZI
B11: Kelas | D11: ='REKOD PRESTASI MURID'!D7 -> 5 AGRO | H11: 5 | I11: ='REKOD PRESTASI MURID'!B16 -> AZWAN BIN MUSAHAR | J11: =IF(I11=0,"",H11&" "&I11) -> 5 AZWAN BIN MUSAHAR
B12: Nama Guru | D12: ='REKOD PRESTASI MURID'!$D$6 -> EN. AHMAD HASHIM MOKTAR | H12: 6 | I12: ='REKOD PRESTASI MURID'!B17 -> CHAN KOK MENG | J12: =IF(I12=0,"",H12&" "&I12) -> 6 CHAN KOK MENG
B13: Tarikh Pelaporan | D13: =B4 -> 43010 | H13: 7 | I13: ='REKOD PRESTASI MURID'!B18 -> CHONG WEY LOON | J13: =IF(I13=0,"",H13&" "&I13) -> 7 CHONG WEY LOON
H14: 8 | I14: ='REKOD PRESTASI MURID'!B19 -> DANIAL IRISH BIN DANIAL RUDIN | J14: =IF(I14=0,"",H14&" "&I14) -> 8 DANIAL IRISH BIN DANIAL RUDIN
B15: Tahap Penguasaan Keseluruhan | E15: =IF(K7=1,"",VLOOKUP($I$6,'REKOD PRESTASI MURID'!$A$12:$AD$65,30)) -> 6 | F15: =UPPER(IF(K7=1,K8,K9)) -> PENTAKSIRAN AKHIR TAHUN | H15: 9 | I15: ='REKOD PRESTASI MURID'!B20 -> FARIDAH BINTI RAMLAN | J15: =IF(I15=0,"",H15&" "&I15) -> 9 FARIDAH BINTI RAMLAN
H16: 10 | I16: ='REKOD PRESTASI MURID'!B21 -> HAFIZ BIN BAHAROM | J16: =IF(I16=0,"",H16&" "&I16) -> 10 HAFIZ BIN BAHAROM
B17: Berikut adalah pernyataan bagi Tahap Penguasaan keseluruhan | E17: =IF(E15="","Tahap Penguasaan Keseluruhan hanya dilaporkan pada pentaksiran akhir tahun sahaja",VLOOKUP(E15,'DATA PERNYATAAN TAHAP PGUASAAN '!A204:B209,2)) -> Murid mampu mencipta idea baru yang kreatif dan inovatif, berkeupayaan untuk membuat keputusan, berkomunikasi secara berkesan dan menjadi contoh | H17: 11 | I17: ='REKOD PRESTASI MURID'!B22 -> HALIM BIN HARUN | J17: =IF(I17=0,"",H17&" "&I17) -> 11 HALIM BIN HARUN
H18: 12 | I18: ='REKOD PRESTASI MURID'!B23 -> HARLENI BINTI ARIF | J18: =IF(I18=0,"",H18&" "&I18) -> 12 HARLENI BINTI ARIF
B19: MATA PELAJARAN | D19: KEMAHIRAN | E19: TAHAP PENGUASAAN | F19: TAFSIRAN | H19: 13 | I19: ='REKOD PRESTASI MURID'!B24 -> HARLINA BINTI SARIP | J19: =IF(I19=0,"",H19&" "&I19) -> 13 HARLINA BINTI SARIP
B20: =B6 -> PERTANIAN | D20: ='REKOD PRESTASI MURID'!$E$11 -> 3.1 | E20: =VLOOKUP($I$6,'REKOD PRESTASI MURID'!$A$12:$AD$65,5) -> 5 | F20: =VLOOKUP(E20,'DATA PERNYATAAN TAHAP PGUASAAN '!A4:B9,2) -> Menilai rekabentuk struktur dalaman dan luaran tumbuhan. | H20: 14 | I20: ='REKOD PRESTASI MURID'!B25 -> HAYATI BINTI MUSA | J20: =IF(I20=0,"",H20&" "&I20) -> 14 HAYATI BINTI MUSA
D21: ='REKOD PRESTASI MURID'!$F$11 -> 3.2 | E21: =VLOOKUP($I$6,'REKOD PRESTASI MURID'!$A$12:$AD$65,6) -> 4 | F21: =VLOOKUP(E21,'DATA PERNYATAAN TAHAP PGUASAAN '!A12:B17,2) -> Menganalisis hubungkait fotosintesis dengan respirasi, penyerapan, translokasi dan transpirasi | H21: 15 | I21: ='REKOD PRESTASI MURID'!B26 -> IRWAN HASHIM BIN MOHD SUHAILY | J21: =IF(I21=0,"",H21&" "&I21) -> 15 IRWAN HASHIM BIN MOHD SUHAILY
D22: ='REKOD PRESTASI MURID'!$G$11 -> 4.1 | E22: =VLOOKUP($I$6,'REKOD PRESTASI MURID'!$A$12:$AD$65,7) -> 5 | F22: =VLOOKUP(E22,'DATA PERNYATAAN TAHAP PGUASAAN '!A20:B25,2) -> Menilai beberapa rekabentuk penanaman secara hidroponik, fertigasi dan aeroponik | H22: 16 | I22: ='REKOD PRESTASI MURID'!B27 -> ISMAIL ALIFF BIN AZIZ | J22: =IF(I22=0,"",H22&" "&I22) -> 16 ISMAIL ALIFF BIN AZIZ
D23: ='REKOD PRESTASI MURID'!$H$11 -> 4.2 | E23: =VLOOKUP($I$6,'REKOD PRESTASI MURID'!$A$12:$AD$65,8) -> 4 | F23: =VLOOKUP(E23,'DATA PERNYATAAN TAHAP PGUASAAN '!A28:B33,2) -> Menganalisis keberkesanan satu kaedah pengawalan perosak tanaman dengan mana-mana kaedah yang lain. | H23: 17 | I23: ='REKOD PRESTASI MURID'!B28 -> JAMIL BIN JAMALUDIN | J23: =IF(I23=0,"",H23&" "&I23) -> 17 JAMIL BIN JAMALUDIN
D24: ='REKOD PRESTASI MURID'!$I$11 -> 4.3 | E24: =VLOOKUP($I$6,'REKOD PRESTASI MURID'!$A$12:$AD$65,9) -> 4 | F24: =VLOOKUP(E24,'DATA PERNYATAAN TAHAP PGUASAAN '!A36:B41,2) -> Menganalisis kualiti hasil tanaman di tempat penyimpanan | H24: 18 | I24: ='REKOD PRESTASI MURID'!B29 -> KAMARIAH BINTI YASSIN | J24: =IF(I24=0,"",H24&" "&I24) -> 18 KAMARIAH BINTI YASSIN
D25: ='REKOD PRESTASI MURID'!$J$11 -> 4.4 | E25: =VLOOKUP($I$6,'REKOD PRESTASI MURID'!$A$12:$AD$65,10) -> 4 | F25: =VLOOKUP(E25,'DATA PERNYATAAN TAHAP PGUASAAN '!A44:B49,2) -> Menganalisis perbezaan harga semasa tanaman dengan harga pada musim perayaan, bandar dan luar bandar | H25: 19 | I25: ='REKOD PRESTASI MURID'!B30 -> KARIM DANISH BIN ABU BAKAR | J25: =IF(I25=0,"",H25&" "&I25) -> 19 KARIM DANISH BIN ABU BAKAR
D26: ='REKOD PRESTASI MURID'!$K$11 -> 4.5 | E26: =VLOOKUP($I$6,'REKOD PRESTASI MURID'!$A$12:$AD$65,11) -> 2 | F26: =VLOOKUP(E26,'DATA PERNYATAAN TAHAP PGUASAAN '!A52:B57,2) -> Menjelaskan butiran yang digunakan untuk menghitung modal permulaan, modal akhir dan penyata untung rugi | H26: 20 | I26: ='REKOD PRESTASI MURID'!B31 -> KHARIL YUSRI BIN TAHUR | J26: =IF(I26=0,"",H26&" "&I26) -> 20 KHARIL YUSRI BIN TAHUR
D27: ='REKOD PRESTASI MURID'!$L$11 -> 0 | E27: =VLOOKUP($I$6,'REKOD PRESTASI MURID'!$A$12:$AD$65,12) -> 0 | F27: =VLOOKUP(E27,'DATA PERNYATAAN TAHAP PGUASAAN '!A60:B65,2) -> #N/A | H27: 21 | I27: ='REKOD PRESTASI MURID'!B32 -> LAILATUL QARI BINTI KARIM | J27: =IF(I27=0,"",H27&" "&I27) -> 21 LAILATUL QARI BINTI KARIM
D28: ='REKOD PRESTASI MURID'!$M$11 -> 0 | E28: =VLOOKUP($I$6,'REKOD PRESTASI MURID'!$A$12:$AD$65,13) -> 0 | F28: =VLOOKUP(E28,'DATA PERNYATAAN TAHAP PGUASAAN '!A68:B73,2) -> #N/A | H28: 22 | I28: ='REKOD PRESTASI MURID'!B33 -> LIZA BINTI OTHMAN | J28: =IF(I28=0,"",H28&" "&I28) -> 22 LIZA BINTI OTHMAN
D29: ='REKOD PRESTASI MURID'!$N$11 -> 0 | E29: =VLOOKUP($I$6,'REKOD PRESTASI MURID'!$A$12:$AD$65,14) -> 0 | F29: =VLOOKUP(E29,'DATA PERNYATAAN TAHAP PGUASAAN '!A76:B81,2) -> #N/A | H29: 23 | I29: ='REKOD PRESTASI MURID'!B34 -> MOHD ESWARAN BIN EZWAN | J29: =IF(I29=0,"",H29&" "&I29) -> 23 MOHD ESWARAN BIN EZWAN
D30: ='REKOD PRESTASI MURID'!$O$11 -> 0 | E30: =VLOOKUP($I$6,'REKOD PRESTASI MURID'!$A$12:$AD$65,15) -> 0 | F30: =VLOOKUP(E30,'DATA PERNYATAAN TAHAP PGUASAAN '!A84:B89,2) -> #N/A | H30: 24 | I30: ='REKOD PRESTASI MURID'!B35 -> MOHD SHAZA BIN ABD. JALIL | J30: =IF(I30=0,"",H30&" "&I30) -> 24 MOHD SHAZA BIN ABD. JALIL
D31: ='REKOD PRESTASI MURID'!$P$11 -> 0 | E31: =VLOOKUP($I$6,'REKOD PRESTASI MURID'!$A$12:$AD$65,16) -> 0 | F31: =VLOOKUP(E31,'DATA PERNYATAAN TAHAP PGUASAAN '!A92:B97,2) -> #N/A | H31: 25 | I31: ='REKOD PRESTASI MURID'!B36 -> MUHD. NIZAM BIN KARIM JUNIOR | J31: =IF(I31=0,"",H31&" "&I31) -> 25 MUHD. NIZAM BIN KARIM JUNIOR
D32: ='REKOD PRESTASI MURID'!Q$11 -> 0 | E32: =VLOOKUP($I$6,'REKOD PRESTASI MURID'!$A$12:$AD$65,17) -> 0 | F32: =VLOOKUP(E32,'DATA PERNYATAAN TAHAP PGUASAAN '!A100:B105,2) -> #N/A | H32: 26 | I32: ='REKOD PRESTASI MURID'!B37 -> NADIA BINTI HASHIM | J32: =IF(I32=0,"",H32&" "&I32) -> 26 NADIA BINTI HASHIM
D33: ='REKOD PRESTASI MURID'!$R$11 -> 0 | E33: =VLOOKUP($I$6,'REKOD PRESTASI MURID'!$A$12:$AD$65,18) -> 0 | F33: =VLOOKUP(E33,'DATA PERNYATAAN TAHAP PGUASAAN '!A108:B113,2) -> #N/A | H33: 27 | I33: ='REKOD PRESTASI MURID'!B38 -> NAGENDRAN A/L MAGENDREN | J33: =IF(I33=0,"",H33&" "&I33) -> 27 NAGENDRAN A/L MAGENDREN
D34: ='REKOD PRESTASI MURID'!$S$11 -> 0 | E34: =VLOOKUP($I$6,'REKOD PRESTASI MURID'!$A$12:$AD$65,19) -> 0 | F34: =VLOOKUP(E34,'DATA PERNYATAAN TAHAP PGUASAAN '!A116:B121,2) -> #N/A | H34: 28 | I34: ='REKOD PRESTASI MURID'!B39 -> NAWI BIN RAZMAN | J34: =IF(I34=0,"",H34&" "&I34) -> 28 NAWI BIN RAZMAN
D35: ='REKOD PRESTASI MURID'!$T$11 -> 0 | E35: =VLOOKUP($I$6,'REKOD PRESTASI MURID'!$A$12:$AD$65,20) -> 0 | F35: =VLOOKUP(E35,'DATA PERNYATAAN TAHAP PGUASAAN '!A124:B129,2) -> #N/A | H35: 29 | I35: ='REKOD PRESTASI MURID'!B40 -> NINA QISTINA BINTI BAHAR | J35: =IF(I35=0,"",H35&" "&I35) -> 29 NINA QISTINA BINTI BAHAR
D36: ='REKOD PRESTASI MURID'!$U$11 -> 0 | E36: =VLOOKUP($I$6,'REKOD PRESTASI MURID'!$A$12:$AD$65,21) -> 0 | F36: =VLOOKUP(E36,'DATA PERNYATAAN TAHAP PGUASAAN '!A132:B137,2) -> #N/A | H36: 30 | I36: ='REKOD PRESTASI MURID'!B41 -> NUR QURSIAH BINTI HARIS | J36: =IF(I36=0,"",H36&" "&I36) -> 30 NUR QURSIAH BINTI HARIS
D37: ='REKOD PRESTASI MURID'!$V$11 -> 0 | E37: =VLOOKUP($I$6,'REKOD PRESTASI MURID'!$A$12:$AD$65,22) -> 0 | F37: =VLOOKUP(E37,'DATA PERNYATAAN TAHAP PGUASAAN '!A140:B145,2) -> #N/A | H37: 31 | I37: ='REKOD PRESTASI MURID'!B42 -> 0 | J37: =IF(I37=0,"",H37&" "&I37)
D38: ='REKOD PRESTASI MURID'!$W$11 -> 0 | E38: =VLOOKUP($I$6,'REKOD PRESTASI MURID'!$A$12:$AD$65,23) -> 0 | F38: =VLOOKUP(E38,'DATA PERNYATAAN TAHAP PGUASAAN '!A148:B153,2) -> #N/A | H38: 32 | I38: ='REKOD PRESTASI MURID'!B43 -> 0 | J38: =IF(I38=0,"",H38&" "&I38)
D39: ='REKOD PRESTASI MURID'!$X$11 -> 0 | E39: =VLOOKUP($I$6,'REKOD PRESTASI MURID'!$A$12:$AD$65,24) -> 0 | F39: =VLOOKUP(E39,'DATA PERNYATAAN TAHAP PGUASAAN '!A156:B161,2) -> #N/A | H39: 33 | I39: ='REKOD PRESTASI MURID'!B44 -> 0 | J39: =IF(I39=0,"",H39&" "&I39)
D40: ='REKOD PRESTASI MURID'!$Y$11 -> 0 | E40: =VLOOKUP($I$6,'REKOD PRESTASI MURID'!$A$12:$AD$65,25) -> 0 | F40: =VLOOKUP(E40,'DATA PERNYATAAN TAHAP PGUASAAN '!A164:B169,2) -> #N/A | H40: 34 | I40: ='REKOD PRESTASI MURID'!B45 -> 0 | J40: =IF(I40=0,"",H40&" "&I40)
D41: ='REKOD PRESTASI MURID'!$Z$11 -> 0 | E41: =VLOOKUP($I$6,'REKOD PRESTASI MURID'!$A$12:$AD$65,26) -> 0 | F41: =VLOOKUP(E41,'DATA PERNYATAAN TAHAP PGUASAAN '!A172:B177,2) -> #N/A | H41: 35 | I41: ='REKOD PRESTASI MURID'!B46 -> 0 | J41: =IF(I41=0,"",H41&" "&I41)
...

Sheet DATA PERNYATAAN TAHAP PGUASAAN 
A1: DATA PERNYATAAN STANDARD PRESTASI
A3: TAHAP PENGUASAAN | B3: 3.1 Fisiologi tumbuhan
A4: 1 | B4: Menyatakan struktur luaran dan dalaman tumbuhan serta fungsinya.
A5: 2 | B5: Menerangkan struktur luaran dan dalaman tumbuhan dikotiledon atau monokotiledon.
A6: 3 | B6: Menyediakan sampel dan melakar struktur luaran dan dalaman tumbuhan.
A7: 4 | B7: Menganalisis fungsi struktur luaran dan dalaman tumbuhan monokotiledon dan dikotiledon
A8: 5 | B8: Menilai rekabentuk struktur dalaman dan luaran tumbuhan.
A9: 6 | B9: Menghasilkan satu model struktur dalaman dan luaran tumbuhan dengan kreatif dan inovatif.
A11: TAHAP PENGUASAAN | B11: 3.2 Proses utama fisiologi tumbuhan
A12: 1 | B12: Menyatakan proses utama fisiologi tumbuhan
A13: 2 | B13: Menerangkan proses utama fisiologi tumbuhan serta faktor yang mempengaruhi kadar fotosintesis
A14: 3 | B14: Melaksanakan kajian terhadap faktor yang mempengaruhi kadar fotosintesis
A15: 4 | B15: Menganalisis hubungkait fotosintesis dengan respirasi, penyerapan, translokasi dan transpirasi
A16: 5 | B16: Menilai dan membuat kesimpulan terhadap hasil kajian faktor yang mempengaruhi kadar fotosintesis
A17: 6 | B17: Menunjukkan bukti hubungkait proses dalam fisiologi tumbuhan dan kepentingan faktor yang mempengaruhi kadar fotosistesis dalam laporan
A19: TAHAP PENGUASAAN | B19: 4.1 Projek penanaman
A20: 1 | B20: Menyatakan jenis tanaman makanan dan spesifikasi penanaman
A21: 2 | B21: Menerangkan kaedah penanaman tanaman menggunakan tanah dan tanpa tanah Menerangkan kepentingan nutrien kepada tanaman
A22: 3 | B22: Menunjuk cara penggunaan mekanisasi pertanian mengikut langkah-langkah yang betul
A23: 4 | B23: Menganalisis kaedah pembajaan tanaman menggunakan tanah antara tabur, alur, poket dan sembur Membandingkan kaedah pembajaan tanaman tanpa tanah antara fertigasi, hidroponik dan aeroponik
A24: 5 | B24: Menilai beberapa rekabentuk penanaman secara hidroponik, fertigasi dan aeroponik
A25: 6 | B25: Mencipta dan melaksanakan satu reka bentuk sistem penanaman hidroponik, fertigasi dan aeroponik secara kreatif dan inovatif.
A27: TAHAP PENGUASAAN | B27: 4.2 Pengawalan perosak tanaman
A28: 1 | B28: Menentukan undang-undang alam sekitar yang digunakan untuk kawalan pengawalan perosak tanaman
A29: 2 | B29: Menerangkan kawalan aktiviti pengawalan perosak melalui MyGAP, SALM dan SOM
A30: 3 | B30: Melakukan amali pengawalan perosak tanaman secara kultura, fizikal, biologi, kimia dan organik.
A31: 4 | B31: Menganalisis keberkesanan satu kaedah pengawalan perosak tanaman dengan mana-mana kaedah yang lain.
A32: 5 | B32: Menilai kaedah pengawalan perosak tanaman yang paling selamat dan lestari alam sekitar
A33: 6 | B33: Menghasilkan satu kaedah pengawalan perosak tanaman yang bercirikan lestari alam sekitar.
A35: TAHAP PENGUASAAN | B35: 4.3 Penuaian dan penyimpanan hasil tanaman.
A36: 1 | B36: Menyatakan aktiviti penuaian dan penyimpanan hasil.
A37: 2 | B37: Menerangkan cara penuaian dan kaedah penyimpanan hasil tanaman.
A38: 3 | B38: Mengaplikasikan amalan pertanian baik dalam melaksanakan aktiviti penuaian dan penyimpanan hasil tanaman
A39: 4 | B39: Menganalisis kualiti hasil tanaman di tempat penyimpanan
A40: 5 | B40: Menilai kaedah penyimpanan hasil tanaman.
A41: 6 | B41: Menghasilkan cadangan kaedah penuaian dan penyimpanan yang kreatif dan inovatif bagi mengekalkan kualiti hasil tanaman
A43: TAHAP PENGUASAAN | B43: 4.4 Pemasaran hasil tanaman
A44: 1 | B44: Menerangkan empat strategi pemasaran hasil pertanian
A45: 2 | B45: Menjelaskan semua elemen dalam menentukan kehendak pasaran
A46: 3 | B46: Memasarkan hasil tanaman dan merekod hasil jualan
...

Sheet GRAF PELAPORAN
A1: ='REKOD PRESTASI MURID'!A7 -> PERTANIAN
G3: Sekolah: | H3: ='REKOD PRESTASI MURID'!D1 -> SMK TAMAN ANTARABANGSA | L3: Guru Mata Pelajaran: | M3: ='REKOD PRESTASI MURID'!D6 -> EN. AHMAD HASHIM MOKTAR
G4: Kelas: | H4: ='REKOD PRESTASI MURID'!D7 -> 5 AGRO
B6: ='REKOD PRESTASI MURID'!E11 -> 3.1 | J6: ='REKOD PRESTASI MURID'!F11 -> 3.2
B7: TAHAP PENGUASAAN | C7: TP 1 | D7: TP 2 | E7: TP 3 | F7: TP 4 | G7: TP 5 | H7: TP 6 | J7: TAHAP PENGUASAAN | K7: TP 1 | L7: TP 2 | M7: TP 3 | N7: TP 4 | O7: TP 5 | P7: TP 6
B8: BIL. MURID | C8: =COUNTIF('REKOD PRESTASI MURID'!$E$12:$E$65,1) -> 0 | D8: =COUNTIF('REKOD PRESTASI MURID'!$E$12:$E$65,2) -> 0 | E8: =COUNTIF('REKOD PRESTASI MURID'!$E$12:$E$65,3) -> 0 | F8: =COUNTIF('REKOD PRESTASI MURID'!$E$12:$E$65,4) -> 0 | G8: =COUNTIF('REKOD PRESTASI MURID'!$E$12:$E$65,5) -> 6 | H8: =COUNTIF('REKOD PRESTASI MURID'!$E$12:$E$65,6) -> 24 | J8: BIL. MURID | K8: =COUNTIF('REKOD PRESTASI MURID'!$F$12:$F$65,1) -> 0 | L8: =COUNTIF('REKOD PRESTASI MURID'!$F$12:$F$65,2) -> 0 | M8: =COUNTIF('REKOD PRESTASI MURID'!$F$12:$F$65,3) -> 5 | N8: =COUNTIF('REKOD PRESTASI MURID'!$F$12:$F$65,4) -> 15 | O8: =COUNTIF('REKOD PRESTASI MURID'!$F$12:$F$65,5) -> 5 | P8: =COUNTIF('REKOD PRESTASI MURID'!$F$12:$F$65,6) -> 5
F21: JUMLAH | G21: =SUM(C8:H8) -> 30 | H21: MURID | N21: JUMLAH | O21: =SUM(K8:P8) -> 30 | P21: MURID
B24: ='REKOD PRESTASI MURID'!G11 -> 4.1 | J24: ='REKOD PRESTASI MURID'!H11 -> 4.2
B25: TAHAP PENGUASAAN | C25: TP 1 | D25: TP 2 | E25: TP 3 | F25: TP 4 | G25: TP 5 | H25: TP 6 | J25: TAHAP PENGUASAAN | K25: TP 1 | L25: TP 2 | M25: TP 3 | N25: TP 4 | O25: TP 5 | P25: TP 6
B26: BIL. MURID | C26: =COUNTIF('REKOD PRESTASI MURID'!$G$12:$G$65,1) -> 0 | D26: =COUNTIF('REKOD PRESTASI MURID'!$G$12:$G$65,2) -> 0 | E26: =COUNTIF('REKOD PRESTASI MURID'!$G$12:$G$65,3) -> 5 | F26: =COUNTIF('REKOD PRESTASI MURID'!$G$12:$G$65,4) -> 4 | G26: =COUNTIF('REKOD PRESTASI MURID'!$G$12:$G$65,5) -> 16 | H26: =COUNTIF('REKOD PRESTASI MURID'!$G$12:$G$65,6) -> 5 | J26: BIL. MURID | K26: =COUNTIF('REKOD PRESTASI MURID'!$AD$12:$AD$65,1) -> 0 | L26: =COUNTIF('REKOD PRESTASI MURID'!$AD$12:$AD$65,2) -> 0 | M26: =COUNTIF('REKOD PRESTASI MURID'!$AD$12:$AD$65,3) -> 0 | N26: =COUNTIF('REKOD PRESTASI MURID'!$AD$12:$AD$65,4) -> 5 | O26: =COUNTIF('REKOD PRESTASI MURID'!$AD$12:$AD$65,5) -> 19 | P26: =COUNTIF('REKOD PRESTASI MURID'!$AD$12:$AD$65,6) -> 6
F39: JUMLAH | G39: =SUM(C26:H26) -> 30 | H39: MURID | N39: JUMLAH | O39: =SUM(K26:P26) -> 30 | P39: MURID
B41: ='REKOD PRESTASI MURID'!I11 -> 4.3 | J41: ='REKOD PRESTASI MURID'!J11 -> 4.4
B42: TAHAP PENGUASAAN | C42: TP 1 | D42: TP 2 | E42: TP 3 | F42: TP 4 | G42: TP 5 | H42: TP 6 | J42: TAHAP PENGUASAAN | K42: TP 1 | L42: TP 2 | M42: TP 3 | N42: TP 4 | O42: TP 5 | P42: TP 6
B43: BIL. MURID | C43: =COUNTIF('REKOD PRESTASI MURID'!$I$12:$I$65,1) -> 0 | D43: =COUNTIF('REKOD PRESTASI MURID'!$I$12:$I$65,2) -> 0 | E43: =COUNTIF('REKOD PRESTASI MURID'!$I$12:$I$65,3) -> 0 | F43: =COUNTIF('REKOD PRESTASI MURID'!$I$12:$I$65,4) -> 30 | G43: =COUNTIF('REKOD PRESTASI MURID'!$I$12:$I$65,5) -> 0 | H43: =COUNTIF('REKOD PRESTASI MURID'!$I$12:$I$65,6) -> 0 | J43: BIL. MURID | K43: =COUNTIF('REKOD PRESTASI MURID'!$H$12:$H$65,1) -> 0 | L43: =COUNTIF('REKOD PRESTASI MURID'!$H$12:$H$65,2) -> 0 | M43: =COUNTIF('REKOD PRESTASI MURID'!$H$12:$H$65,3) -> 0 | N43: =COUNTIF('REKOD PRESTASI MURID'!$H$12:$H$65,4) -> 30 | O43: =COUNTIF('REKOD PRESTASI MURID'!$H$12:$H$65,5) -> 0 | P43: =COUNTIF('REKOD PRESTASI MURID'!$H$12:$H$65,6) -> 0
F56: JUMLAH | G56: =SUM(C43:H43) -> 30 | H56: MURID | N56: JUMLAH | O56: =SUM(K43:P43) -> 30 | P56: MURID
B59: ='REKOD PRESTASI MURID'!K11 -> 4.5 | J59: TAHAP PENGUASAAN KESELURUHAN
B60: TAHAP PENGUASAAN | C60: TP 1 | D60: TP 2 | E60: TP 3 | F60: TP 4 | G60: TP 5 | H60: TP 6 | J60: TAHAP PENGUASAAN | K60: TP 1 | L60: TP 2 | M60: TP 3 | N60: TP 4 | O60: TP 5 | P60: TP 6
B61: BIL. MURID | C61: =COUNTIF('REKOD PRESTASI MURID'!$K$12:$K$65,1) -> 0 | D61: =COUNTIF('REKOD PRESTASI MURID'!$K$12:$K$65,2) -> 30 | E61: =COUNTIF('REKOD PRESTASI MURID'!$K$12:$K$65,3) -> 0 | F61: =COUNTIF('REKOD PRESTASI MURID'!$K$12:$K$65,4) -> 0 | G61: =COUNTIF('REKOD PRESTASI MURID'!$K$12:$K$65,5) -> 0 | H61: =COUNTIF('REKOD PRESTASI MURID'!$K$12:$K$65,6) -> 0 | J61: BIL. MURID | K61: =COUNTIF('REKOD PRESTASI MURID'!$AD$12:$AD$65,1) -> 0 | L61: =COUNTIF('REKOD PRESTASI MURID'!$AD$12:$AD$65,2) -> 0 | M61: =COUNTIF('REKOD PRESTASI MURID'!$AD$12:$AD$65,3) -> 0 | N61: =COUNTIF('REKOD PRESTASI MURID'!$AD$12:$AD$65,4) -> 5 | O61: =COUNTIF('REKOD PRESTASI MURID'!$AD$12:$AD$65,5) -> 19 | P61: =COUNTIF('REKOD PRESTASI MURID'!$AD$12:$AD$65,6) -> 6
F74: JUMLAH | G74: =SUM(C61:H61) -> 30 | H74: MURID | N74: JUMLAH | O74: =SUM(K61:P61) -> 30 | P74: MURID
B76: ='REKOD PRESTASI MURID'!M11 -> 0 | J76: ='REKOD PRESTASI MURID'!N11 -> 0
B77: TAHAP PENGUASAAN | C77: TP 1 | D77: TP 2 | E77: TP 3 | F77: TP 4 | G77: TP 5 | H77: TP 6 | J77: TAHAP PENGUASAAN | K77: TP 1 | L77: TP 2 | M77: TP 3 | N77: TP 4 | O77: TP 5 | P77: TP 6
B78: BIL. MURID | C78: =COUNTIF('REKOD PRESTASI MURID'!$M$12:$M$65,1) -> 0 | D78: =COUNTIF('REKOD PRESTASI MURID'!$M$12:$M$65,2) -> 0 | E78: =COUNTIF('REKOD PRESTASI MURID'!$M$12:$M$65,3) -> 0 | F78: =COUNTIF('REKOD PRESTASI MURID'!$M$12:$M$65,4) -> 0 | G78: =COUNTIF('REKOD PRESTASI MURID'!$M$12:$M$65,5) -> 0 | H78: =COUNTIF('REKOD PRESTASI MURID'!$M$12:$M$65,6) -> 0 | J78: BIL. MURID | K78: =COUNTIF('REKOD PRESTASI MURID'!$N$12:$N$65,1) -> 0 | L78: =COUNTIF('REKOD PRESTASI MURID'!$N$12:$N$65,2) -> 0 | M78: =COUNTIF('REKOD PRESTASI MURID'!$N$12:$N$65,3) -> 0 | N78: =COUNTIF('REKOD PRESTASI MURID'!$N$12:$N$65,4) -> 0 | O78: =COUNTIF('REKOD PRESTASI MURID'!$N$12:$N$65,5) -> 0 | P78: =COUNTIF('REKOD PRESTASI MURID'!$N$12:$N$65,6) -> 0
F91: JUMLAH | G91: =SUM(C78:H78) -> 0 | H91: MURID | N91: JUMLAH | O91: =SUM(K78:P78) -> 0 | P91: MURID
B94: ='REKOD PRESTASI MURID'!O11 -> 0 | J94: ='REKOD PRESTASI MURID'!P11 -> 0
B95: TAHAP PENGUASAAN | C95: TP 1 | D95: TP 2 | E95: TP 3 | F95: TP 4 | G95: TP 5 | H95: TP 6 | J95: TAHAP PENGUASAAN | K95: TP 1 | L95: TP 2 | M95: TP 3 | N95: TP 4 | O95: TP 5 | P95: TP 6
B96: BIL. MURID | C96: =COUNTIF('REKOD PRESTASI MURID'!$O$12:$O$65,1) -> 0 | D96: =COUNTIF('REKOD PRESTASI MURID'!$O$12:$O$65,2) -> 0 | E96: =COUNTIF('REKOD PRESTASI MURID'!$O$12:$O$65,3) -> 0 | F96: =COUNTIF('REKOD PRESTASI MURID'!$O$12:$O$65,4) -> 0 | G96: =COUNTIF('REKOD PRESTASI MURID'!$O$12:$O$65,5) -> 0 | H96: =COUNTIF('REKOD PRESTASI MURID'!$O$12:$O$65,6) -> 0 | J96: BIL. MURID | K96: =COUNTIF('REKOD PRESTASI MURID'!$P$12:$P$65,1) -> 0 | L96: =COUNTIF('REKOD PRESTASI MURID'!$P$12:$P$65,2) -> 0 | M96: =COUNTIF('REKOD PRESTASI MURID'!$P$12:$P$65,3) -> 0 | N96: =COUNTIF('REKOD PRESTASI MURID'!$P$12:$P$65,4) -> 0 | O96: =COUNTIF('REKOD PRESTASI MURID'!$P$12:$P$65,5) -> 0 | P96: =COUNTIF('REKOD PRESTASI MURID'!$P$12:$P$65,6) -> 0
F109: JUMLAH | G109: =SUM(C96:H96) -> 0 | H109: MURID | N109: JUMLAH | O109: =SUM(K96:P96) -> 0 | P109: MURID
B111: ='REKOD PRESTASI MURID'!Q11 -> 0 | J111: ='REKOD PRESTASI MURID'!R11 -> 0
B112: TAHAP PENGUASAAN | C112: TP 1 | D112: TP 2 | E112: TP 3 | F112: TP 4 | G112: TP 5 | H112: TP 6 | J112: TAHAP PENGUASAAN | K112: TP 1 | L112: TP 2 | M112: TP 3 | N112: TP 4 | O112: TP 5 | P112: TP 6
B113: BIL. MURID | C113: =COUNTIF('REKOD PRESTASI MURID'!$Q$12:$Q$65,1) -> 0 | D113: =COUNTIF('REKOD PRESTASI MURID'!$Q$12:$Q$65,2) -> 0 | E113: =COUNTIF('REKOD PRESTASI MURID'!$Q$12:$Q$65,3) -> 0 | F113: =COUNTIF('REKOD PRESTASI MURID'!$Q$12:$Q$65,4) -> 0 | G113: =COUNTIF('REKOD PRESTASI MURID'!$Q$12:$Q$65,5) -> 0 | H113: =COUNTIF('REKOD PRESTASI MURID'!$Q$12:$Q$65,6) -> 0 | J113: BIL. MURID | K113: =COUNTIF('REKOD PRESTASI MURID'!$R$12:$R$65,1) -> 0 | L113: =COUNTIF('REKOD PRESTASI MURID'!$R$12:$R$65,2) -> 0 | M113: =COUNTIF('REKOD PRESTASI MURID'!$R$12:$R$65,3) -> 0 | N113: =COUNTIF('REKOD PRESTASI MURID'!$R$12:$R$65,4) -> 0 | O113: =COUNTIF('REKOD PRESTASI MURID'!$R$12:$R$65,5) -> 0 | P113: =COUNTIF('REKOD PRESTASI MURID'!$R$12:$R$65,6) -> 0
F126: JUMLAH | G126: =SUM(C113:H113) -> 0 | H126: MURID | N126: JUMLAH | O126: =SUM(K113:P113) -> 0 | P126: MURID
B129: ='REKOD PRESTASI MURID'!S11 -> 0 | C129: S | J129: ='REKOD PRESTASI MURID'!T11 -> 0 | K129: T
B130: TAHAP PENGUASAAN | C130: TP 1 | D130: TP 2 | E130: TP 3 | F130: TP 4 | G130: TP 5 | H130: TP 6 | J130: TAHAP PENGUASAAN | K130: TP 1 | L130: TP 2 | M130: TP 3 | N130: TP 4 | O130: TP 5 | P130: TP 6
B131: BIL. MURID | C131: =COUNTIF('REKOD PRESTASI MURID'!$S$12:$S$65,1) -> 0 | D131: =COUNTIF('REKOD PRESTASI MURID'!$S$12:$S$65,2) -> 0 | E131: =COUNTIF('REKOD PRESTASI MURID'!$S$12:$S$65,3) -> 0 | F131: =COUNTIF('REKOD PRESTASI MURID'!$S$12:$S$65,4) -> 0 | G131: =COUNTIF('REKOD PRESTASI MURID'!$S$12:$S$65,5) -> 0 | H131: =COUNTIF('REKOD PRESTASI MURID'!$S$12:$S$65,6) -> 0 | J131: BIL. MURID | K131: =COUNTIF('REKOD PRESTASI MURID'!$T$12:$T$65,1) -> 0 | L131: =COUNTIF('REKOD PRESTASI MURID'!$T$12:$T$65,2) -> 0 | M131: =COUNTIF('REKOD PRESTASI MURID'!$T$12:$T$65,3) -> 0 | N131: =COUNTIF('REKOD PRESTASI MURID'!$T$12:$T$65,4) -> 0 | O131: =COUNTIF('REKOD PRESTASI MURID'!$T$12:$T$65,5) -> 0 | P131: =COUNTIF('REKOD PRESTASI MURID'!$T$12:$T$65,6) -> 0
F144: JUMLAH | G144: =SUM(C131:H131) -> 0 | H144: MURID | N144: JUMLAH | O144: =SUM(K131:P131) -> 0 | P144: MURID
B147: ='REKOD PRESTASI MURID'!U11 -> 0 | C147: U | J147: ='REKOD PRESTASI MURID'!V11 -> 0 | K147: V
B148: TAHAP PENGUASAAN | C148: TP 1 | D148: TP 2 | E148: TP 3 | F148: TP 4 | G148: TP 5 | H148: TP 6 | J148: TAHAP PENGUASAAN | K148: TP 1 | L148: TP 2 | M148: TP 3 | N148: TP 4 | O148: TP 5 | P148: TP 6
B149: BIL. MURID | C149: =COUNTIF('REKOD PRESTASI MURID'!$U$12:$U$65,1) -> 0 | D149: =COUNTIF('REKOD PRESTASI MURID'!$U$12:$U$65,2) -> 0 | E149: =COUNTIF('REKOD PRESTASI MURID'!$U$12:$U$65,3) -> 0 | F149: =COUNTIF('REKOD PRESTASI MURID'!$U$12:$U$65,4) -> 0 | G149: =COUNTIF('REKOD PRESTASI MURID'!$U$12:$U$65,5) -> 0 | H149: =COUNTIF('REKOD PRESTASI MURID'!$U$12:$U$65,6) -> 0 | J149: BIL. MURID | K149: =COUNTIF('REKOD PRESTASI MURID'!$V$12:$V$65,1) -> 0 | L149: =COUNTIF('REKOD PRESTASI MURID'!$V$12:$V$65,2) -> 0 | M149: =COUNTIF('REKOD PRESTASI MURID'!$V$12:$V$65,3) -> 0 | N149: =COUNTIF('REKOD PRESTASI MURID'!$V$12:$V$65,4) -> 0 | O149: =COUNTIF('REKOD PRESTASI MURID'!$V$12:$V$65,5) -> 0 | P149: =COUNTIF('REKOD PRESTASI MURID'!$V$12:$V$65,6) -> 0
F162: JUMLAH | G162: =SUM(C149:H149) -> 0 | H162: MURID | N162: JUMLAH | O162: =SUM(K149:P149) -> 0 | P162: MURID
B165: ='REKOD PRESTASI MURID'!W11 -> 0 | C165: W | J165: ='REKOD PRESTASI MURID'!X11 -> 0 | K165: X
...
